BEGIN:VCALENDAR
VERSION:2.0
PRODID:-//ChamberMaster//Event Calendar 2.0//EN
METHOD:PUBLISH
X-PUBLISHED-TTL:P3D
REFRESH-INTERVAL:P3D
CALSCALE:GREGORIAN
BEGIN:VEVENT
DTSTART:20120512T143000Z
DTEND:20120512T143000Z
X-MICROSOFT-CDO-ALLDAYEVENT:FALSE
SUMMARY:Blindness 101
DESCRIPTION:What should you do if you meet a person who is blind? Should you offer to help? What do you say? If the person has a dog guide\, can you pat the dog? The best way of dealing with people is always with courtesy and understanding of their needs.  Our panelists\, blind and sighted\, will give frank answers to questions about blindness and demonstrations of when and how best to help. \n\n\n\nCall 899-2213 by May 10 to register or send email to kcarpenter@aph.org.
X-ALT-DESC;FMTTYPE=text/html:What should you do if you meet a person who is blind? Should you offer to help? What do you say? If the person has a dog guide\, can you pat the dog? The best way of dealing with people is always with courtesy and understanding of their needs.&nbsp\; Our panelists\, blind and sighted\, will give frank answers to questions about blindness and demonstrations of when and how best to help.&nbsp\;<br />\n<br />\nCall 899-2213 by May 10 to register or send email to <a href="mailto:kcarpenter@aph.org">kcarpenter@aph.org</a>.
LOCATION:Museum of the American Printing House for the Blind 1839 Frankfort Ave Louisville\, Ky 40206
UID:e.9037.1064
SEQUENCE:3
DTSTAMP:20260424T133203Z
URL:https://business.stmatthewschamber.com/events/details/blindness-101-05-12-2012-1064
END:VEVENT

END:VCALENDAR
