BEGIN:VCALENDAR
VERSION:2.0
PRODID:-//ChamberMaster//Event Calendar 2.0//EN
METHOD:PUBLISH
X-PUBLISHED-TTL:P3D
REFRESH-INTERVAL:P3D
CALSCALE:GREGORIAN
BEGIN:VEVENT
DTSTART:20131129T120000Z
DTEND:20131129T120000Z
X-MICROSOFT-CDO-ALLDAYEVENT:FALSE
SUMMARY:Black Friday Special at Senior Iguanas
DESCRIPTION:Two holiday specials currently in play for St. Matthews. . .\n\n\n\n- A Black Friday (29th) special of our own: 1/2 OFF breakfast food items...starting at 7am.\n\n\n\n- Now thru December: Purchase $25 in gift cards\, RECEIVE $5 FREE!
X-ALT-DESC;FMTTYPE=text/html:Two holiday specials currently in play for St. Matthews. . .<br />\n<br />\n- A Black Friday (29th) special of our own: 1/2 OFF breakfast food items...starting at 7am.<br />\n<br />\n- Now thru December: Purchase $25 in gift cards\, RECEIVE $5 FREE!
LOCATION:
UID:e.9037.1631
SEQUENCE:3
DTSTAMP:20260425T203518Z
URL:https://business.stmatthewschamber.com/events/details/black-friday-special-at-senior-iguanas-11-29-2013-1631
END:VEVENT

END:VCALENDAR
