BEGIN:VCALENDAR
VERSION:2.0
PRODID:-//ChamberMaster//Event Calendar 2.0//EN
METHOD:PUBLISH
X-PUBLISHED-TTL:P3D
REFRESH-INTERVAL:P3D
CALSCALE:GREGORIAN
BEGIN:VEVENT
DTSTART:20140404T140000Z
DTEND:20140404T160000Z
X-MICROSOFT-CDO-ALLDAYEVENT:FALSE
SUMMARY:Big Trees Rule
DESCRIPTION:Madeline and Lt. Gov. Jerry Abramson\, will be on hand to unveil the dedication plaque.  Please join us for an ever-so-brief outdoor ceremony in honor of our 200-year-old champion tree.
X-ALT-DESC;FMTTYPE=text/html:Madeline and Lt. Gov. Jerry Abramson\, will be on hand to unveil the dedication plaque.&nbsp\; Please join us for an ever-so-brief outdoor ceremony in honor of our 200-year-old champion tree.<br />\n&nbsp\;
LOCATION:Masonic Homes of Kentucky 3701 Frankfort Ave. Louisville\, KY
UID:e.9037.1719
SEQUENCE:3
DTSTAMP:20260426T021110Z
URL:https://business.stmatthewschamber.com/events/details/big-trees-rule-04-04-2014-1719
END:VEVENT

END:VCALENDAR
