BEGIN:VCALENDAR
VERSION:2.0
PRODID:-//ChamberMaster//Event Calendar 2.0//EN
METHOD:PUBLISH
X-PUBLISHED-TTL:P3D
REFRESH-INTERVAL:P3D
CALSCALE:GREGORIAN
BEGIN:VEVENT
DTSTART:20120419T220000Z
DTEND:20120420T000000Z
X-MICROSOFT-CDO-ALLDAYEVENT:FALSE
SUMMARY:Bariatric Surgery Support Group Meeting at Baptist Hospital East
DESCRIPTION:Those who have undergone bariatric surgery\, or those considering the procedure\, may benefit from learning more about the process from experts and those who have gone through it. A bariatric surgery support group will meet Thursday\, April 19 at 6 p.m. in the Baptist Hospital East Education Center. To register\, call the Baptist Hospital East Information Center at (502) 897-8131.
X-ALT-DESC;FMTTYPE=text/html:Those who have undergone bariatric surgery\, or those considering the procedure\, may benefit from learning more about the process from experts and those who have gone through it. A bariatric surgery support group will meet Thursday\, April 19 at 6 p.m. in the Baptist Hospital East Education Center. To register\, call the Baptist Hospital East Information Center at (502) 897-8131. 
LOCATION:Baptist Hospital East Education Center\, 4000 Kresge Way
UID:e.9037.1013
SEQUENCE:3
DTSTAMP:20260424T153001Z
URL:https://business.stmatthewschamber.com/events/details/bariatric-surgery-support-group-meeting-at-baptist-hospital-east-04-19-2012-1013
END:VEVENT

END:VCALENDAR
