BEGIN:VCALENDAR
VERSION:2.0
PRODID:-//ChamberMaster//Event Calendar 2.0//EN
METHOD:PUBLISH
X-PUBLISHED-TTL:P3D
REFRESH-INTERVAL:P3D
CALSCALE:GREGORIAN
BEGIN:VEVENT
DTSTART:20120315T220000Z
DTEND:20120316T000000Z
X-MICROSOFT-CDO-ALLDAYEVENT:FALSE
SUMMARY:Bariatric Support Group at Baptist Hospital East
DESCRIPTION:Those who have undergone bariatric surgery\, or those considering the procedure\, may benefit from learning more about the process from experts and those who have gone through it. A bariatric surgery support group meets on the third Thursday of every month. The next meeting will be Thursday\, March 15 at 6 p.m. in the Baptist Hospital East Education Center. To register\, call the Baptist Hospital East Information Center at (502) 897-8131.
X-ALT-DESC;FMTTYPE=text/html:Those who have undergone bariatric surgery\, or those considering the procedure\, may benefit from learning more about the process from experts and those who have gone through it. A bariatric surgery support group meets on the third Thursday of every month. The next meeting will be Thursday\, March 15 at 6 p.m. in the Baptist Hospital East Education Center. To register\, call the Baptist Hospital East Information Center at (502) 897-8131. 
LOCATION:Baptist Hospital East's second-floor education center\, 4000 Kresge Way
UID:e.9037.1004
SEQUENCE:3
DTSTAMP:20260424T163726Z
URL:https://business.stmatthewschamber.com/events/details/bariatric-support-group-at-baptist-hospital-east-03-15-2012-1004
END:VEVENT

END:VCALENDAR
