BEGIN:VCALENDAR
VERSION:2.0
PRODID:-//ChamberMaster//Event Calendar 2.0//EN
METHOD:PUBLISH
X-PUBLISHED-TTL:P3D
REFRESH-INTERVAL:P3D
CALSCALE:GREGORIAN
BEGIN:VEVENT
DTSTART:20130622T163000Z
DTEND:20130817T163000Z
X-MICROSOFT-CDO-ALLDAYEVENT:FALSE
SUMMARY:BARDS AND STORYTELLERS: APH SUMMER FILM FEST 2013
DESCRIPTION:Join us this summer to explore how blindness has been depicted in Hollywood in our first APH Museum Film Fest. Each month we will screen a film featuring a major character who is blind\, followed by discussion. All movies are presented with audio description for the blind. The film fest is part of Bards and Storytellers\, our popular arts\, folklore\, and performance summer series. Admission is free and open to the public\, but registration is required. Call 899-2213 or email kcarpenter@aph.org to register. Best for older children and adults.\n\n	\n		\n			EYES IN THE NIGHT (1942)\n\n			Saturday\, June 22\, 2013\, at 12:30 p.m.\n		\n			A detective who is blind and his guide dog investigate a murder and discover a Nazi plot. With Edward Arnold and Donna Reed.\n	\n	\n		\n			BRIGHT VICTORY (1951)\n\n			Saturday\, July 20\, 2013\, at 12:30 p.m.\n		\n			Adjusting to life at home presents many challenges for a young veteran blinded in World War II. With Arthur Kennedy and Peggy Dow.\n	\n	\n		\n			A PATCH OF BLUE (1962)\n\n			Saturday\, August 17\, 2013\, at 12:30 p.m.\n		\n			A girl who is blind is befriended by a man determined to help her escape her abusive home life. With Sidney Poitier\, Shelley Winters\, and Elizabeth Hartman.
X-ALT-DESC;FMTTYPE=text/html:<p>\n	Join us this summer to explore how blindness has been depicted in Hollywood in our first APH Museum Film Fest. Each month we will screen a film featuring a major character who is blind\, followed by discussion. All movies are presented with audio description for the blind. The film fest is part of Bards and Storytellers\, our popular arts\, folklore\, and performance summer series. Admission is free and open to the public\, but registration is required. Call 899-2213 or email kcarpenter@aph.org to register. Best for older children and adults.</p>\n<ul>\n	<li style="list-style-type: none">\n		<p>\n			<strong>EYES IN THE NIGHT</strong> (1942)<br />\n			Saturday\, June 22\, 2013\, at 12:30 p.m.</p>\n		<p>\n			A detective who is blind and his guide dog investigate a murder and discover a Nazi plot. With Edward Arnold and Donna Reed.</p>\n	</li>\n	<li style="list-style-type: none">\n		<p>\n			<strong>BRIGHT VICTORY</strong> (1951)<br />\n			Saturday\, July 20\, 2013\, at 12:30 p.m.</p>\n		<p>\n			Adjusting to life at home presents many challenges for a young veteran blinded in World War II. With Arthur Kennedy and Peggy Dow.</p>\n	</li>\n	<li style="list-style-type: none">\n		<p>\n			<strong>A PATCH OF BLUE</strong> (1962)<br />\n			Saturday\, August 17\, 2013\, at 12:30 p.m.</p>\n		<p>\n			A girl who is blind is befriended by a man determined to help her escape her abusive home life. With Sidney Poitier\, Shelley Winters\, and Elizabeth Hartman.</p>\n	</li>\n</ul>\n
LOCATION:The Museum of the American Printing House for the Blind
UID:e.9037.1573
SEQUENCE:3
DTSTAMP:20260425T150016Z
URL:https://business.stmatthewschamber.com/events/details/bards-and-storytellers-aph-summer-film-fest-2013-06-22-2013-1573
END:VEVENT

END:VCALENDAR
