BEGIN:VCALENDAR
VERSION:2.0
PRODID:-//ChamberMaster//Event Calendar 2.0//EN
METHOD:PUBLISH
X-PUBLISHED-TTL:P3D
REFRESH-INTERVAL:P3D
CALSCALE:GREGORIAN
BEGIN:VEVENT
DTSTART:20131207T170000Z
DTEND:20131207T170000Z
X-MICROSOFT-CDO-ALLDAYEVENT:FALSE
SUMMARY:Authors to sign Kentucky?s Twelve Days of Christmas
DESCRIPTION:On Saturday\, December 7th\, authors Gerald Toner and Stephen Vest will sign the book Kentucky's Twelve Days of Christmas: A Literary Anthology\, to which they were contributors.  The anthology's Christmas-themed stories and poems reflect the wealth of material Kentucky writers have to draw from in their memories of home\, people\, history and heritage.\n\n\n\nThe authors will be at both the Mall St. Matthews and Shelbyville Road Plaza locations of A Taste of Kentucky.\n\n\n\nMall St. Matthews: 12pm   2pm\n\n\n\nShelbyville Road Plaza: 2:30pm   4:30pm
X-ALT-DESC;FMTTYPE=text/html:<span style="font-family:cambria\,serif\;">On Saturday\, December 7<sup>th</sup>\, authors Gerald Toner and Stephen Vest will sign the book <em>Kentucky&rsquo\;s Twelve Days of Christmas: A Literary Anthology</em>\, to which they were contributors.&nbsp\; The anthology&rsquo\;s Christmas-themed stories and poems reflect the wealth of material Kentucky writers have to draw from in their memories of home\, people\, history and heritage.</span><br />\n<br />\n<span style="font-family:cambria\,serif\;">The authors will be at both the Mall St. Matthews and Shelbyville Road Plaza locations of A Taste of Kentucky.</span><br />\n<br />\n<span style="color:#ff0000\;"><span style="font-size: 14px\;"><strong><span style="font-family: cambria\,serif\;">Mall St. Matthews: 12pm &ndash\; 2pm</span><br />\n<br />\n<span style="font-family: cambria\,serif\;">Shelbyville Road Plaza: 2:30pm &ndash\; 4:30pm</span></strong></span></span>
LOCATION:Mall St. Matthews: 12pm 2pm Shelbyville Road Plaza: 2:30pn 4:30pm
UID:e.9037.1633
SEQUENCE:3
DTSTAMP:20260425T214648Z
URL:https://business.stmatthewschamber.com/events/details/authors-to-sign-kentucky-s-twelve-days-of-christmas-12-07-2013-1633
END:VEVENT

END:VCALENDAR
