BEGIN:VCALENDAR
VERSION:2.0
PRODID:-//ChamberMaster//Event Calendar 2.0//EN
METHOD:PUBLISH
X-PUBLISHED-TTL:P3D
REFRESH-INTERVAL:P3D
CALSCALE:GREGORIAN
BEGIN:VEVENT
DTSTART:20120822T113000Z
DTEND:20120822T130000Z
X-MICROSOFT-CDO-ALLDAYEVENT:FALSE
SUMMARY:August Business Breakfast
DESCRIPTION:Speaker: Stan Lampke
X-ALT-DESC;FMTTYPE=text/html:Speaker: Stan Lampke
LOCATION:St Matthews Community Center 310 Ten Pin Lane
UID:e.9037.966
SEQUENCE:3
DTSTAMP:20260422T093542Z
URL:https://business.stmatthewschamber.com/events/details/august-business-breakfast-08-22-2012-966
END:VEVENT

END:VCALENDAR
