BEGIN:VCALENDAR
VERSION:2.0
PRODID:-//ChamberMaster//Event Calendar 2.0//EN
METHOD:PUBLISH
X-PUBLISHED-TTL:P3D
REFRESH-INTERVAL:P3D
CALSCALE:GREGORIAN
BEGIN:VEVENT
DTSTART:20120117T213000Z
DTEND:20120117T233000Z
X-MICROSOFT-CDO-ALLDAYEVENT:FALSE
SUMMARY:ARCpoint Labs of Louisville - Grand Opening/Ribbon Cutting
DESCRIPTION:National Drug and Alcohol Testing Company Opening in Louisville\n\n \n\n \n\nGreenville\, S.C.: ARCpoint\, one of the nation's leading Third Party Providers in the drug and alcohol testing industry\, has opened in St. Matthews.\n\n \n\nARCpoint is the only national franchise specializing in drug\, alcohol\, DNA/paternity\, steroid\, background screening\, and corporate wellness. The Company is Nationally Accredited for Administration of Drug and Alcohol Testing Programs (NAADATP) and recognized as a Certified Professional Collector Trainer (CPCT)\, a distinction held by only 43 companies in the nation. In addition\, the Company and all its franchises carry E&O (Errors and Omissions) insurance specifically for drug testing services\, ensuring our clients peace of mind. ARCpoint has developed a comprehensive program incorporating all aspects of federally mandated and non-mandated testing\, encompassing all areas of business\, government\, judicial agencies and school systems.\n\n \n\n"We're very excited about opening ARCpoint Labs of Louisville said Felix Mirando\, Founder and CEO of ARCpoint Franchise Group\, LLC. Our focus from day one has been to be the nation's leading Third Party Provider in the drug and alcohol testing industry. We've always felt like we had some of the most innovative and progressive\, forward-thinking franchisees in the industry\, and have always been on the forefront of product development and service".\n\n \n\nARCpoint provides the industry's most competitive list of screening services\, including corporate wellness programs\, athletic and student testing\, federal mandated testing\, workplace testing\, and clinical lab testing\, while continuing to build its reputation as an innovative and progressive leader in the testing and screening industry.\n\n \n\nBob Ferland\, owner of the new franchise has lived here for 20 years and likes to\, "Keep Louisville Weird" by dining and buying locally when possible.  Bob is active in many local community organizations\; he serves on the board of The Louisville Youth Orchestra and The Louisville Youth Group. Bob attended the University of Louisville where he received his Master's in Business Administration\, he is also a licensed CPA in KY.  After being in the Healthcare industry for over 14 years\, he is looking forward to the challenges of being his own boss.  Bob is ambitious and has "the entrepreneur spirit" he is looking forward to providing Louisville with Accurate\, Reliable\, and Confidential testing.
X-ALT-DESC;FMTTYPE=text/html:<strong><span style="font-size: 12pt"><span style="color: black"><span style="font-family: courier new">National Drug and Alcohol Testing Company Opening in Louisville</span></span></span></strong><br />\n&nbsp\;<br />\n&nbsp\;<br />\n<span style="font-size: 10pt"><span style="color: black"><span style="font-family: courier new">Greenville\, S.C.: ARCpoint\, one of the nation&#39\;s leading Third Party Providers in the drug and alcohol testing industry\, has opened in St. Matthews.</span></span></span><br />\n&nbsp\;<br />\n<span style="font-size: 10pt"><span style="color: black"><span style="font-family: courier new">ARCpoint is the only national franchise specializing in drug\, alcohol\, DNA/paternity\, steroid\, background screening\, and corporate wellness. The Company is Nationally Accredited for Administration of Drug and Alcohol Testing Programs (NAADATP) and recognized as a Certified Professional Collector Trainer (CPCT)\, a distinction held by only 43 companies in the nation. In addition\, the Company and all its franchises carry E&amp\;O (Errors and Omissions) insurance specifically for drug testing services\, ensuring our clients peace of mind. ARCpoint has developed a comprehensive program incorporating all aspects of federally mandated and non-mandated testing\, encompassing all areas of business\, government\, judicial agencies and school systems.</span></span></span><br />\n&nbsp\;<br />\n<span style="font-size: 10pt"><span style="color: black"><span style="font-family: courier new">&quot\;We&#39\;re very excited about opening ARCpoint Labs of Louisville said Felix Mirando\, Founder and CEO of ARCpoint Franchise Group\, LLC. Our focus from day one has been to be the nation&#39\;s leading Third Party Provider in the drug and alcohol testing industry. We&#39\;ve always felt like we had some of the most innovative and progressive\, forward-thinking franchisees in the industry\, and have always been on the forefront of product development and service&quot\;.</span></span></span><br />\n&nbsp\;<br />\n<span style="font-size: 10pt"><span style="color: black"><span style="font-family: courier new">ARCpoint provides the industry&#39\;s most competitive list of screening services\, including corporate wellness programs\, athletic and student testing\, federal mandated testing\, workplace testing\, and clinical lab testing\, while continuing to build its reputation as an innovative and progressive leader in the testing and screening industry.</span></span></span><br />\n&nbsp\;<br />\n<span style="font-size: 10pt"><span style="color: black"><span style="font-family: courier new">Bob Ferland\, owner of the new franchise has lived here for 20 years and likes to\, &quot\;Keep Louisville Weird&quot\; by dining and buying locally when possible.&nbsp\; Bob is active in many local community organizations\; he serves on the board of The Louisville Youth Orchestra and The Louisville Youth Group. Bob attended the University of Louisville where he received his Master&rsquo\;s in Business Administration\, he is also a licensed CPA in KY.&nbsp\; After being in the Healthcare industry for over 14 years\, he is looking forward to the challenges of being his own boss.&nbsp\; Bob is ambitious and has &quot\;the entrepreneur spirit&quot\; he is looking forward to providing Louisville with Accurate\, Reliable\, and Confidential testing.&nbsp\;</span></span></span>
LOCATION:4111 Oechsli Ave 40207
UID:e.9037.769
SEQUENCE:3
DTSTAMP:20260424T194913Z
URL:https://business.stmatthewschamber.com/events/details/arcpoint-labs-of-louisville-grand-opening-ribbon-cutting-01-17-2012-769
END:VEVENT

END:VCALENDAR
