BEGIN:VCALENDAR
VERSION:2.0
PRODID:-//ChamberMaster//Event Calendar 2.0//EN
METHOD:PUBLISH
X-PUBLISHED-TTL:P3D
REFRESH-INTERVAL:P3D
CALSCALE:GREGORIAN
BEGIN:VEVENT
DTSTART:20120418T233000Z
DTEND:20120419T010000Z
X-MICROSOFT-CDO-ALLDAYEVENT:FALSE
SUMMARY:April Business Breakfast
DESCRIPTION:Speaker: Scotty Davenport
X-ALT-DESC;FMTTYPE=text/html:Speaker: Scotty Davenport
LOCATION:St Matthews Community Center 310 Ten Pin Lane
UID:e.9037.963
SEQUENCE:3
DTSTAMP:20260424T141429Z
URL:https://business.stmatthewschamber.com/events/details/april-business-breakfast-04-18-2012-963
END:VEVENT

END:VCALENDAR
