BEGIN:VCALENDAR
VERSION:2.0
PRODID:-//ChamberMaster//Event Calendar 2.0//EN
METHOD:PUBLISH
X-PUBLISHED-TTL:P3D
REFRESH-INTERVAL:P3D
CALSCALE:GREGORIAN
BEGIN:VEVENT
DTSTART:20130417T113000Z
DTEND:20130417T130000Z
X-MICROSOFT-CDO-ALLDAYEVENT:FALSE
SUMMARY:April Business Breakfast
DESCRIPTION:The St. Matthews Chamber welcomes Scott Davenport\, Head Coach of the Men's Basketball team at Bellarmine University.\n\n\n\nOn April 29\, 2005\, Scott Davenport became the 11th coach in Bellarmine's history and in six years took Bellarmine all the way to the top by leading the Knights to the 2011 NCAA Division II National Championship.\n\n\n\nFor his effotts\, he was named national coach of the year by two different organizations: the National Association of Basketball Coaches and the Division II Bulletin. In the 2012 NCAA Division II Tournament Coach Davenport led the Knights to the Final Four with an extremely successful run for the year.\n\n\n\nScott will join us to celebrate the amazing seniors in our area as the St. Matthews Chamber presents this year's Scholarships.
X-ALT-DESC;FMTTYPE=text/html:The St. Matthews Chamber welcomes Scott Davenport\, Head Coach of the Men&#39\;s Basketball team at Bellarmine University.<br />\n<br />\nOn April 29\, 2005\, Scott Davenport became the 11th coach in Bellarmine&#39\;s history and in six years took Bellarmine all the way to the top by leading the Knights to the 2011 NCAA Division II National Championship.<br />\n<br />\nFor his effotts\, he was named national coach of the year by two different organizations: the National Association of Basketball Coaches and the Division II Bulletin. In the 2012 NCAA Division II Tournament Coach Davenport led the Knights to the Final Four with an extremely successful run for the year.<br />\n<br />\nScott will join us to celebrate the amazing seniors in our area as the St. Matthews Chamber presents this year&#39\;s Scholarships.
LOCATION:The Olmsted 3702 Frankfort Avenue Louisville\, KY 40207
UID:e.9037.1341
SEQUENCE:3
DTSTAMP:20260425T110551Z
URL:https://business.stmatthewschamber.com/events/details/april-business-breakfast-04-17-2013-1341
END:VEVENT

END:VCALENDAR
