BEGIN:VCALENDAR
VERSION:2.0
PRODID:-//ChamberMaster//Event Calendar 2.0//EN
METHOD:PUBLISH
X-PUBLISHED-TTL:P3D
REFRESH-INTERVAL:P3D
CALSCALE:GREGORIAN
BEGIN:VEVENT
DTSTART:20140416T113000Z
DTEND:20140416T130000Z
X-MICROSOFT-CDO-ALLDAYEVENT:FALSE
SUMMARY:April Business Breakfast
DESCRIPTION:Come join the Chamber for breakfast at Big Spring Country Club. There will be a half hour of good networking with an average of 80+ business representatives. In addition\, there will be trade show exhibits for you to browse from our fellow Chamber members\, a great meal for you to enjoy and a fantastic speaker for you to listen to.\n\n\n\nThis month's guest speaker is Scotty Davenport\, Head Basketball Coach of Bellarmine University.\n\n\n\nThis is a register-only event so there will be no walk-ins unfortunately. Please register now and don't miss out on this great Chamber networking event!
X-ALT-DESC;FMTTYPE=text/html:&nbsp\;<br />\nCome join the Chamber for breakfast at Big Spring Country Club. There will be a half hour of good networking with an average of 80+ business representatives. In addition\, there will be trade show exhibits for you to browse from our fellow Chamber members\, a great meal for you to enjoy and a fantastic speaker for you to listen to.<br />\n<br />\nThis month&#39\;s guest speaker is Scotty Davenport\, Head Basketball Coach of Bellarmine University.<br />\n<br />\nThis is a register-only event so there will be no walk-ins unfortunately. Please register now and don&#39\;t miss out on this great Chamber networking event!<br />\n&nbsp\;
LOCATION:Big Spring Country Club 5901 Dutchmans Lane Louisville\, KY 40205
UID:e.9037.1654
SEQUENCE:3
DTSTAMP:20260426T021234Z
URL:https://business.stmatthewschamber.com/events/details/april-business-breakfast-04-16-2014-1654
END:VEVENT

END:VCALENDAR
