BEGIN:VCALENDAR
VERSION:2.0
PRODID:-//ChamberMaster//Event Calendar 2.0//EN
METHOD:PUBLISH
X-PUBLISHED-TTL:P3D
REFRESH-INTERVAL:P3D
CALSCALE:GREGORIAN
BEGIN:VEVENT
DTSTART:20140301T000000Z
DTEND:20140301T180000Z
X-MICROSOFT-CDO-ALLDAYEVENT:FALSE
SUMMARY:APH Braille Readers Theater Presents: The Curious Savage
DESCRIPTION:The APH Braille Readers Theater Troupe presents\, "The Curious Savage\," written by Louisville-born playwright John Patrick in 1950.  In this funny\, touching story\, an eccentric millionaire\, her greedy step-children\, and the quirky inmates of a mental hospital\, are all thrown together in search of wealth and happiness.  No props\, no lights\, no costumes\, but all fun. Our actors read the script in braille. Free to the public but space is limited so registration is required. Call 502-899-2213 or email kcarpenter@aph.org to register. Best for ages 12 and up.
X-ALT-DESC;FMTTYPE=text/html:<div>\n	The APH Braille Readers Theater Troupe presents\, &quot\;The Curious Savage\,&quot\; written by Louisville-born playwright John Patrick in 1950. &nbsp\;In this funny\, touching story\, an eccentric millionaire\, her greedy step-children\, and the quirky inmates of a mental hospital\, are all thrown together in search of wealth and happiness. &nbsp\;No props\, no lights\, no costumes\, but all fun. Our actors read the script in braille. Free to the public but space is limited so registration is required. Call 502-899-2213 or email kcarpenter@aph.org to register. Best for ages 12 and up.</div>\n<div>\n	&nbsp\;</div>\n
LOCATION:American Printing House for the Blind\, 1839 Frankfort Avenue\, Louisville
UID:e.9037.1709
SEQUENCE:3
DTSTAMP:20260426T000201Z
URL:https://business.stmatthewschamber.com/events/details/aph-braille-readers-theater-presents-the-curious-savage-02-28-2014-1709
END:VEVENT

END:VCALENDAR
