BEGIN:VCALENDAR
VERSION:2.0
PRODID:-//ChamberMaster//Event Calendar 2.0//EN
METHOD:PUBLISH
X-PUBLISHED-TTL:P3D
REFRESH-INTERVAL:P3D
CALSCALE:GREGORIAN
BEGIN:VEVENT
DTSTART:20121116T170000Z
DTEND:20121116T180000Z
X-MICROSOFT-CDO-ALLDAYEVENT:FALSE
SUMMARY:Anytime Fitness Ribbon Cutting and Grand Opening
DESCRIPTION:
X-ALT-DESC;FMTTYPE=text/html:
LOCATION:291 N Hubbards Lane suite 195 Woodlawn Shopping Centre
UID:e.9037.1309
SEQUENCE:3
DTSTAMP:20260425T181218Z
URL:https://business.stmatthewschamber.com/events/details/anytime-fitness-ribbon-cutting-and-grand-opening-11-16-2012-1309
END:VEVENT

END:VCALENDAR
