BEGIN:VCALENDAR
VERSION:2.0
PRODID:-//ChamberMaster//Event Calendar 2.0//EN
METHOD:PUBLISH
X-PUBLISHED-TTL:P3D
REFRESH-INTERVAL:P3D
CALSCALE:GREGORIAN
BEGIN:VEVENT
DTSTART:20120320T170000Z
DTEND:20120320T180000Z
X-MICROSOFT-CDO-ALLDAYEVENT:FALSE
SUMMARY:Annuities 101 -- What you Need to About these products Before You Buy!
DESCRIPTION:Annuities 101 -- What you Need to About these products Before You Buy!\n\n\n\nThis presentation will discuss the pros and cons of Fixed\, Index and Variable Annuites.\n\n\n\nSpeaker\n\n\n\nKevin Elliott -- Owner\, Elliott Insurance\n\n\n\nDate \n\n\n\nTuesday - March 20\, 2012\n\n\n\nTime\n\n\n\n1:00 - 2:00 PM\n\n\n\nLocation\n\n\n\nOld National Bank\n\n400 North Hurstbourne Parkway (between Jason's Deli and Bristol's)\n\nLouisville\, KY 40222\n\n\n\nPlease RSVP due to Limited seating (16 MAX) and feel free to bring others to the event.\n\n\n\nThanks and if you have any questions\, please give me a call at 502-384-9164.
X-ALT-DESC;FMTTYPE=text/html:Annuities 101 -- What you Need to About these products Before You Buy!<br />\n<br />\nThis presentation will discuss the pros and cons of Fixed\, Index and Variable Annuites.<br />\n<br />\n<u>Speaker</u><br />\n<br />\nKevin Elliott -- Owner\, Elliott Insurance<br />\n<br />\n<u>Date </u><br />\n<br />\nTuesday - March 20\, 2012<br />\n<br />\n<u>Time</u><br />\n<br />\n1:00 - 2:00 PM<br />\n<br />\n<u>Location</u><br />\n<br />\nOld National Bank<br />\n400 North Hurstbourne Parkway (between Jason&#39\;s Deli and Bristol&#39\;s)<br />\nLouisville\, KY 40222<br />\n<br />\nPlease RSVP due to Limited seating (16 MAX) and feel free to bring others to the event.<br />\n<br />\nThanks and if you have any questions\, please give me a call at 502-384-9164.&nbsp\;
LOCATION:Old National Bank 400 North Hurstbourne Parkway (between Jason's Deli and Bristol's) Louisville\, KY 40222
UID:e.9037.998
SEQUENCE:3
DTSTAMP:20260424T164018Z
URL:https://business.stmatthewschamber.com/events/details/annuities-101-what-you-need-to-about-these-products-before-you-buy-03-20-2012-998
END:VEVENT

END:VCALENDAR
