BEGIN:VCALENDAR
VERSION:2.0
PRODID:-//ChamberMaster//Event Calendar 2.0//EN
METHOD:PUBLISH
X-PUBLISHED-TTL:P3D
REFRESH-INTERVAL:P3D
CALSCALE:GREGORIAN
BEGIN:VEVENT
DTSTART:20200116T223000Z
DTEND:20200117T020000Z
X-MICROSOFT-CDO-ALLDAYEVENT:FALSE
SUMMARY:Annual Meeting
DESCRIPTION:For one night only The Olmsted will be transformed into a private roaring speakeasy. In true speakeasy fashion\, details are limited. What is known is that the night has been careful detailed to bring you a night to remember.\n\n\n\nAgenda:\n\n	5:30 pm | Libations\n	6\;00 pm | Seated Dinner and Program\n	9:00 pm | End of Program\n\nCome Dolled Up and Dapper in your 1920's finery (or business attire) for a roaring good time!
X-ALT-DESC;FMTTYPE=text/html:For one night only The Olmsted will be transformed into a private roaring speakeasy. In true speakeasy fashion\, details are limited. What is known is that the night has been careful detailed to bring you a night to remember.<br />\n<br />\nAgenda:\n<ul>\n	<li>5:30 pm | Libations</li>\n	<li>6\;00 pm | Seated Dinner and Program</li>\n	<li>9:00 pm | End of Program</li>\n</ul>\nCome Dolled Up and Dapper in your 1920&#39\;s finery (or business attire) for a roaring good time!
LOCATION:The Olmsted 3701 Frankfort Avenue Louisville\, KY 40207
UID:e.9037.5617
SEQUENCE:3
DTSTAMP:20260424T153209Z
URL:https://business.stmatthewschamber.com/events/details/annual-meeting-5617
END:VEVENT

END:VCALENDAR
