BEGIN:VCALENDAR
VERSION:2.0
PRODID:-//ChamberMaster//Event Calendar 2.0//EN
METHOD:PUBLISH
X-PUBLISHED-TTL:P3D
REFRESH-INTERVAL:P3D
CALSCALE:GREGORIAN
BEGIN:VEVENT
DTSTART;VALUE=DATE:20130116
DTEND;VALUE=DATE:20130117
TRANSP:TRANSPARENT
X-MICROSOFT-CDO-ALLDAYEVENT:TRUE
SUMMARY:Annual Gala
DESCRIPTION:As requested by Her Majesty's Secret Service\, Secret Agents your mission if you wish to accept is to attend the Annual Gala celebrations of the St. Matthews Area Chamber of Commerce at "Casino Royale" The Olmsted 3701 Frankfort Avenue from 5:30 p.m. to 9:30 p.m. the 16th of January. Please confirm mission acceptance online at www.stmatthewschamber.com.
X-ALT-DESC;FMTTYPE=text/html:<span style="color:#1f497d\;"><span style="font-family:calibri\,sans-serif\;"><span style="font-size:11.0pt\;">As requested by Her Majesty&rsquo\;s Secret Service\, Secret Agents your mission if you wish to accept is to attend the Annual Gala celebrations of the St. Matthews Area Chamber of Commerce at &ldquo\;Casino Royale&rdquo\; The Olmsted 3701 Frankfort Avenue from 5:30 <span>p.m</span>. to 9:30 <span>p.m</span>. the 16<sup><span>th</span></sup> of January. Please confirm mission acceptance online at <a href="http://www.stmatthewschamber.com" target="_blank"><span>www.stmatthewschamber.com</span></a>.</span></span></span>
LOCATION:The Olmsted 3701 Frankfort Avenue
UID:e.9037.1318
SEQUENCE:3
DTSTAMP:20260422T012135Z
URL:https://business.stmatthewschamber.com/events/details/annual-gala-01-16-2013-1318
END:VEVENT

END:VCALENDAR
