BEGIN:VCALENDAR
VERSION:2.0
PRODID:-//ChamberMaster//Event Calendar 2.0//EN
METHOD:PUBLISH
X-PUBLISHED-TTL:P3D
REFRESH-INTERVAL:P3D
CALSCALE:GREGORIAN
BEGIN:VEVENT
DTSTART:20131027T230000Z
DTEND:20131027T230000Z
X-MICROSOFT-CDO-ALLDAYEVENT:FALSE
SUMMARY:Annual Choir Festival at Calvin Presbyterian Church
DESCRIPTION:The festival will feature many local choirs and choral groups performing many styles of sacred music.  This event is free and open to the public. \n\n\n\nFor more information contact the Church office at 896.0303.
X-ALT-DESC;FMTTYPE=text/html:The festival will feature many local choirs and choral groups performing many styles of sacred music.&nbsp\; This event is <strong>free </strong>and open to the public.&nbsp\;<br />\n<br />\nFor more information contact the Church office at 896.0303.
LOCATION:2501 Rudy Lane\, Louisville\, KY 40207
UID:e.9037.1383
SEQUENCE:3
DTSTAMP:20260421T085949Z
URL:https://business.stmatthewschamber.com/events/details/annual-choir-festival-at-calvin-presbyterian-church-10-27-2013-1383
END:VEVENT

END:VCALENDAR
