BEGIN:VCALENDAR
VERSION:2.0
PRODID:-//ChamberMaster//Event Calendar 2.0//EN
METHOD:PUBLISH
X-PUBLISHED-TTL:P3D
REFRESH-INTERVAL:P3D
CALSCALE:GREGORIAN
BEGIN:VEVENT
DTSTART:20120331T150000Z
DTEND:20120331T170000Z
X-MICROSOFT-CDO-ALLDAYEVENT:FALSE
SUMMARY:Admissions Open House at Montessori School of Louisville\, Inc.
DESCRIPTION:Parents of toddlers through middle school students can tour the school facility\, visit classrooms\, speak with teachers and other members of the school community\, including parents of current students\, board members and administrators.  Come experience what make Montessori education such a powerful learning environment!
X-ALT-DESC;FMTTYPE=text/html:Parents of toddlers through middle school students can tour the school facility\, visit classrooms\, speak with teachers and other members of the school community\, including parents of current students\, board members and administrators. &nbsp\;Come experience what make Montessori education such a powerful learning environment!
LOCATION:10263 Champion Farms Drive\, Louisville\, KY 40241
UID:e.9037.1001
SEQUENCE:3
DTSTAMP:20260424T164141Z
URL:https://business.stmatthewschamber.com/events/details/admissions-open-house-at-montessori-school-of-louisville-inc-03-31-2012-1001
END:VEVENT

END:VCALENDAR
