BEGIN:VCALENDAR
VERSION:2.0
PRODID:-//ChamberMaster//Event Calendar 2.0//EN
METHOD:PUBLISH
X-PUBLISHED-TTL:P3D
REFRESH-INTERVAL:P3D
CALSCALE:GREGORIAN
BEGIN:VEVENT
DTSTART:20120407T130000Z
DTEND:20120407T150000Z
X-MICROSOFT-CDO-ALLDAYEVENT:FALSE
SUMMARY:A + Paper Shredding SHRED DAY
DESCRIPTION:Bring your personal papers to be destroyed on-site by the Pulverizer!\n\nDonations accepted to benefit EACM.
X-ALT-DESC;FMTTYPE=text/html:Bring your personal papers to be destroyed on-site by the Pulverizer!<br />\nDonations accepted to benefit EACM.
LOCATION:Westport Road Baptist Church
UID:e.9037.1000
SEQUENCE:3
DTSTAMP:20260424T152346Z
URL:https://business.stmatthewschamber.com/events/details/a-paper-shredding-shred-day-04-07-2012-1000
END:VEVENT

END:VCALENDAR
