BEGIN:VCALENDAR
VERSION:2.0
PRODID:-//ChamberMaster//Event Calendar 2.0//EN
METHOD:PUBLISH
X-PUBLISHED-TTL:P3D
REFRESH-INTERVAL:P3D
CALSCALE:GREGORIAN
BEGIN:VEVENT
DTSTART:20120626T220000Z
DTEND:20120627T000000Z
X-MICROSOFT-CDO-ALLDAYEVENT:FALSE
SUMMARY:A Night at the Movies: "Forks Over Knives"
DESCRIPTION:A Night at the Movies | Forks Over Knives\n\n\n\nEnjoy a night at the movies complete with healthy movie snacks\, as we preview excerpts from Forks Over Knives. This documentary chronicles the link between eating habits and chronic diseases\, such as diabetes and heart disease. Film creators outline their rationale for a whole-food\, plant-based diet as a way to combat these chronic diseases. Movie night will be facilitated by a physician\, who will provide a \,edoca\; voew[pomt amd amswer qiestopms amd amswers.\n\n\n\nTuesday\, June 26 - 6 to 8 p.m.\n\n\n\nTo register\, call (502) 629-1234.
X-ALT-DESC;FMTTYPE=text/html:<strong>A Night at the Movies |<em> Forks Over Knives</em></strong><br />\n<br />\nEnjoy a night at the movies complete with healthy movie snacks\, as we preview excerpts from&nbsp\;<em>Forks Over Knives</em>. This documentary chronicles the link between eating habits and chronic diseases\, such as diabetes and heart disease. Film creators outline their rationale for a whole-food\, plant-based diet as a way to combat these chronic diseases. Movie night will be facilitated by a physician\, who will provide a \,edoca\; voew[pomt amd amswer qiestopms amd amswers.<br />\n<br />\nTuesday\, June 26 - 6 to 8 p.m.<br />\n<br />\nTo register\, call (502) <strong>629-1234</strong>.<br />\n<br />\n
LOCATION:Marshall Women's Health & Education Center Norton Suburban Hospital | Plaza III | Classroom IB
UID:e.9037.1053
SEQUENCE:3
DTSTAMP:20260424T134648Z
URL:https://business.stmatthewschamber.com/events/details/a-night-at-the-movies-forks-over-knives-06-26-2012-1053
END:VEVENT

END:VCALENDAR
