BEGIN:VCALENDAR
VERSION:2.0
PRODID:-//ChamberMaster//Event Calendar 2.0//EN
METHOD:PUBLISH
X-PUBLISHED-TTL:P3D
REFRESH-INTERVAL:P3D
CALSCALE:GREGORIAN
BEGIN:VEVENT
DTSTART:20130417T213000Z
DTEND:20130417T233000Z
X-MICROSOFT-CDO-ALLDAYEVENT:FALSE
SUMMARY:A Networking Event: Presented by the Women of SMACC
DESCRIPTION:Burdorf's designers will be presenting new Spring Trends!\n\n\n\nTrunk show by Olivia & Co.\n\n\n\nThere will be fashionistas modeling the latest trends that can be purchased on the spot!\n\n\n\nAccessories like jewelry\, bags\, and anything else you can think of will also be available.
X-ALT-DESC;FMTTYPE=text/html:Burdorf&#39\;s designers will be presenting new Spring Trends!<br />\n<br />\nTrunk show by Olivia &amp\; Co.<br />\n<br />\nThere will be fashionistas modeling the latest trends that can be purchased on the spot!<br />\n<br />\nAccessories like jewelry\, bags\, and anything else you can think of will also be available.
LOCATION:Burdorf's Furnishings & Flooring 3939 Shelbyville Road Louisville\, KY 40207
UID:e.9037.1568
SEQUENCE:3
DTSTAMP:20260425T121439Z
URL:https://business.stmatthewschamber.com/events/details/a-networking-event-presented-by-the-women-of-smacc-04-17-2013-1568
END:VEVENT

END:VCALENDAR
