BEGIN:VCALENDAR
VERSION:2.0
PRODID:-//ChamberMaster//Event Calendar 2.0//EN
METHOD:PUBLISH
X-PUBLISHED-TTL:P3D
REFRESH-INTERVAL:P3D
CALSCALE:GREGORIAN
BEGIN:VEVENT
DTSTART:20140319T220000Z
DTEND:20140320T000000Z
X-MICROSOFT-CDO-ALLDAYEVENT:FALSE
SUMMARY:9th District Metro Council Candidate Forum to be Held at the Clifton Center
DESCRIPTION:Louisville\, KY   The Frankfort Avenue Business Association (FABA) will host a public forum for the candidates running for the 9th District Metro Council seat on Wednesday\, March 19th from 6:00pm-8:00pm in the Clifton Center's Eifler Theater\, 2117 Payne Street. The candidates will be given five minutes to address the audience\, followed by an informal meet-n-greet where attendees can speak with the candidates one-on-one. The event is free and open to the public and will include light refreshments. Crescent Hill Radio will also broadcast the forum live at www.CrescentHillRadio.com. \n\n \n"Councilwoman Ward-Pugh has been a strong advocate for the many independent businesses along the Frankfort Avenue corridor for many years\," says FABA President and Comfy Cow Owner Tim Koons-McGee. "Therefore the business community is extremely interested in the candidates that are running to replace her. We feel this Candidate Forum is a wonderful opportunity for not just our business community but for the entire 9th District to gauge exactly where each candidate stands on the issues that are important to them.\n \n\nThe candidates are (alpha order): Jane Natalie Bennett\, Jason Clark\, Greg Bourke\, Mike Brooks\, Jason Clark\, J.P. Davis\, Chris Hartley\, Bill Hollander\, Stephen P. Imhoff\, Geoffrey "Jeff" Morris\, Jonathan Musselwhite\, Bette Niemi\, Benjamin Vaughn\, and Mollie Younger Noe.\n\n \n\n9th District Councilwoman Tina Ward-Pugh announced in December that she will not seek re-election and her term will expire in December of 2014. \n\n \n\nAbout the Frankfort Avenue Business Association\n\nThe Frankfort Avenue Business Association's (FABA) mission is to enhance The Avenue as a place to do business and work to stimulate economic development along the business corridor. In addition\, FABA acts as an advocate for solutions when issues emerge in the community and helps keep The Avenue looking its best through clean-up and landscaping programs. For more information\, pick up a map of The Avenue at any member business or visit www.frankfortave.com. Follow us on Facebook/FrankfortAvenue.
X-ALT-DESC;FMTTYPE=text/html:<em><span style="font-family:arial\,sans-serif\;"><span style="font-size:11.0pt\;">Louisville\, KY</span></span></em><span style="font-family:arial\,sans-serif\;"><span style="font-size:11.0pt\;"> &ndash\; The Frankfort Avenue Business Association (FABA) will host a public forum for the candidates running for the 9<sup>th</sup> District Metro Council seat on Wednesday\, March 19<sup>th</sup> from 6:00pm-8:00pm in the Clifton Center&rsquo\;s Eifler Theater\, 2117 Payne Street. The candidates will be given five minutes to address the audience\, followed by an informal meet-n-greet where attendees can speak with the candidates one-on-one. The event is free and open to the public and will include light refreshments. Crescent Hill Radio will also broadcast the forum live at <a href="http://www.CrescentHillRadio.com" target="_blank">www.CrescentHillRadio.com</a>. </span></span><br />\n&nbsp\;\n<h2 align="left" style="text-align:left\;"><span style="font-style:normal\;"><span style="font-family:arial\,sans-serif\;"><span style="font-size:11.0pt\;">&ldquo\;Councilwoman Ward-Pugh has been a strong advocate for the many independent businesses along the Frankfort Avenue corridor for many years\,&rdquo\; says FABA President and Comfy Cow Owner Tim Koons-McGee. &ldquo\;Therefore the business community is extremely interested in the candidates that are running to replace her. We feel this Candidate Forum is a wonderful opportunity for not just our<a name="_GoBack"></a> business community but for the entire 9<sup>th</sup> District to gauge exactly where each candidate stands on the issues that are important to them.</span></span></span></h2>\n&nbsp\;<br />\n<span style="color:black\;"><span style="font-family:arial\,sans-serif\;"><span style="font-size:11.0pt\;">The candidates are (alpha order): Jane Natalie Bennett\, Jason Clark\, Greg Bourke\, Mike Brooks\, Jason Clark\, J.P. Davis\, Chris Hartley\, Bill Hollander\, Stephen P. Imhoff\, Geoffrey &quot\;Jeff&quot\; Morris\, Jonathan Musselwhite\, Bette Niemi\, Benjamin Vaughn\, and Mollie Younger Noe.</span></span></span><br />\n&nbsp\;<br />\n<span style="font-family:arial\,sans-serif\;"><span style="font-size:11.0pt\;">9<sup>th</sup> District Councilwoman Tina Ward-Pugh announced in December that she will not seek re-election and her term will expire in December of 2014. </span></span><br />\n&nbsp\;<br />\n<strong><u><span style="font-family:arial\,sans-serif\;">About the Frankfort Avenue Business Association</span></u></strong><br />\n<span style="color:windowtext\;"><span style="font-family:arial\,sans-serif\;">The Frankfort Avenue Business Association&rsquo\;s (FABA) mission is to enhance The Avenue as a place to do business and work to stimulate economic</span></span><span style="font-family:arial\,sans-serif\;"> development along the business corridor. In addition\, FABA acts as an advocate for solutions when issues emerge in the community and helps keep The Avenue looking its best through clean-up and landscaping programs. For more information\, pick up a map of The Avenue at any member business or visit <a href="http://www.frankfortave.com/">www.frankfortave.com</a>. Follow us on Facebook/FrankfortAvenue.</span>
LOCATION:Clifton Center's Eifler Theater\, 2117 Payne Street
UID:e.9037.1716
SEQUENCE:3
DTSTAMP:20260426T011025Z
URL:https://business.stmatthewschamber.com/events/details/9th-district-metro-council-candidate-forum-to-be-held-at-the-clifton-center-03-19-2014-1716
END:VEVENT

END:VCALENDAR
