BEGIN:VCALENDAR
VERSION:2.0
PRODID:-//ChamberMaster//Event Calendar 2.0//EN
METHOD:PUBLISH
X-PUBLISHED-TTL:P3D
REFRESH-INTERVAL:P3D
CALSCALE:GREGORIAN
BEGIN:VEVENT
DTSTART:20200513T150000Z
DTEND:20200513T160000Z
X-MICROSOFT-CDO-ALLDAYEVENT:FALSE
SUMMARY:6 Steps to Reboot Your Business
DESCRIPTION:Learn the 6 Key Steps to Rebooting Your Business as we enter the Re-opening phase of the Recovery.
X-ALT-DESC;FMTTYPE=text/html:Learn the 6 Key Steps to Rebooting Your Business as we enter the Re-opening phase of the Recovery.
LOCATION:Zoom event
UID:e.9037.5713
SEQUENCE:3
DTSTAMP:20260423T223822Z
URL:https://business.stmatthewschamber.com/events/details/6-steps-to-reboot-your-business-5713
END:VEVENT

END:VCALENDAR
