BEGIN:VCALENDAR
VERSION:2.0
PRODID:-//ChamberMaster//Event Calendar 2.0//EN
METHOD:PUBLISH
X-PUBLISHED-TTL:P3D
REFRESH-INTERVAL:P3D
CALSCALE:GREGORIAN
BEGIN:VEVENT
DTSTART:20131029T210500Z
DTEND:20131029T230000Z
X-MICROSOFT-CDO-ALLDAYEVENT:FALSE
SUMMARY:5:05 After Hours Networking
DESCRIPTION:Come out to our October 5:05 After Hours Networking at Eclipse Bank for a night of fun and networking!
X-ALT-DESC;FMTTYPE=text/html:Come out to our October 5:05 After Hours Networking at Eclipse Bank for a night of fun and networking! 
LOCATION:3827 Shelbyville Rd Louisville\, KY 40207
UID:e.9037.1388
SEQUENCE:3
DTSTAMP:20260421T084525Z
URL:https://business.stmatthewschamber.com/events/details/5-05-after-hours-networking-10-29-2013-1388
END:VEVENT

END:VCALENDAR
