BEGIN:VCALENDAR
VERSION:2.0
PRODID:-//ChamberMaster//Event Calendar 2.0//EN
METHOD:PUBLISH
X-PUBLISHED-TTL:P3D
REFRESH-INTERVAL:P3D
CALSCALE:GREGORIAN
BEGIN:VEVENT
DTSTART:20130926T210500Z
DTEND:20130926T230000Z
X-MICROSOFT-CDO-ALLDAYEVENT:FALSE
SUMMARY:5:05 After Hours Networking
DESCRIPTION:Come out to our September 5:05 After Hours Networking at The Benefits Firm for a night of fun and networking!
X-ALT-DESC;FMTTYPE=text/html:Come out to our September 5:05 After Hours Networking at The Benefits Firm for a night of fun and networking!<br />\n
LOCATION:300 Distillery Cmns Louisville\, KY 40206
UID:e.9037.1381
SEQUENCE:3
DTSTAMP:20260425T181904Z
URL:https://business.stmatthewschamber.com/events/details/5-05-after-hours-networking-09-26-2013-1381
END:VEVENT

END:VCALENDAR
