BEGIN:VCALENDAR
VERSION:2.0
PRODID:-//ChamberMaster//Event Calendar 2.0//EN
METHOD:PUBLISH
X-PUBLISHED-TTL:P3D
REFRESH-INTERVAL:P3D
CALSCALE:GREGORIAN
BEGIN:VEVENT
DTSTART:20120816T203000Z
DTEND:20120816T230000Z
X-MICROSOFT-CDO-ALLDAYEVENT:FALSE
SUMMARY:5:05 After Hours Networking
DESCRIPTION:Come out to Printworx of Louisville's Annual "Hot" Summer Networking Event!\n\n\n\nEnjoy free catered food by the new rolling gourmet\, music\, cold beverages and our famous margaritas!\n\n\n\nWear your favorite tie-dyed outfit\, shirt\, pant\, hat\, whatever and ender to win a gift!\n\n\n\nMUST RSVP BY AUGUST 9TH at party@printworxoflouisville.com
X-ALT-DESC;FMTTYPE=text/html:Come out to Printworx of Louisville&#39\;s Annual &quot\;Hot&quot\; Summer Networking Event!<br />\n<br />\nEnjoy free catered food by the new rolling gourmet\, music\, cold beverages and our famous margaritas!<br />\n<br />\nWear your favorite tie-dyed outfit\, shirt\, pant\, hat\, whatever and ender to win a gift!<br />\n<br />\nMUST RSVP BY AUGUST 9TH at party@printworxoflouisville.com
LOCATION:PrintWorx of Louisville 3928 Bardstown Rd.\, 40218
UID:e.9037.1292
SEQUENCE:3
DTSTAMP:20260422T074825Z
URL:https://business.stmatthewschamber.com/events/details/5-05-after-hours-networking-08-16-2012-1292
END:VEVENT

END:VCALENDAR
