BEGIN:VCALENDAR
VERSION:2.0
PRODID:-//ChamberMaster//Event Calendar 2.0//EN
METHOD:PUBLISH
X-PUBLISHED-TTL:P3D
REFRESH-INTERVAL:P3D
CALSCALE:GREGORIAN
BEGIN:VEVENT
DTSTART:20130815T210500Z
DTEND:20130815T230000Z
X-MICROSOFT-CDO-ALLDAYEVENT:FALSE
SUMMARY:5:05 After Hours Networking
DESCRIPTION:Come to our August 5:05 After Hours Networking at PrintWorx of Louisville for a night of fun and networking!
X-ALT-DESC;FMTTYPE=text/html:Come to our August 5:05 After Hours Networking at PrintWorx of Louisville for a night of fun and networking!
LOCATION:3928 Bardstown Rd Louisville\, KY 40218
UID:e.9037.1371
SEQUENCE:3
DTSTAMP:20260421T122157Z
URL:https://business.stmatthewschamber.com/events/details/5-05-after-hours-networking-08-15-2013-1371
END:VEVENT

END:VCALENDAR
