BEGIN:VCALENDAR
VERSION:2.0
PRODID:-//ChamberMaster//Event Calendar 2.0//EN
METHOD:PUBLISH
X-PUBLISHED-TTL:P3D
REFRESH-INTERVAL:P3D
CALSCALE:GREGORIAN
BEGIN:VEVENT
DTSTART:20130725T210500Z
DTEND:20130725T230000Z
X-MICROSOFT-CDO-ALLDAYEVENT:FALSE
SUMMARY:5:05 After Hours Networking
DESCRIPTION:Come out to our July 5:05 After Hours networking at Saint's Pizza and Sky Bar for a night of fun and networking!
X-ALT-DESC;FMTTYPE=text/html:Come out to our July 5:05 After Hours networking at Saint&#39\;s Pizza and Sky Bar for a night of fun and networking!
LOCATION:131Breckenridge Ln St Matthews\, Ky 40207
UID:e.9037.1364
SEQUENCE:3
DTSTAMP:20260421T141324Z
URL:https://business.stmatthewschamber.com/events/details/5-05-after-hours-networking-07-25-2013-1364
END:VEVENT

END:VCALENDAR
