BEGIN:VCALENDAR
VERSION:2.0
PRODID:-//ChamberMaster//Event Calendar 2.0//EN
METHOD:PUBLISH
X-PUBLISHED-TTL:P3D
REFRESH-INTERVAL:P3D
CALSCALE:GREGORIAN
BEGIN:VEVENT
DTSTART:20130627T210500Z
DTEND:20130627T230000Z
X-MICROSOFT-CDO-ALLDAYEVENT:FALSE
SUMMARY:5:05 After Hours Networking
DESCRIPTION:Come out to our June 5:05 After Hours Networking at  Adriaan's at Limestone Bay Yacht Club for a night of fun and networking!
X-ALT-DESC;FMTTYPE=text/html:<span class="cm_editor_fix">Come out to our June 5:05 After Hours Networking at&nbsp\; </span><span class="cm_editor_fix">Adriaan&#39\;s at Limestone Bay Yacht Club for a night of fun and networking!</span>
LOCATION:5801 Upper River Rd Prospect\, KY 47130
UID:e.9037.1358
SEQUENCE:3
DTSTAMP:20260421T154649Z
URL:https://business.stmatthewschamber.com/events/details/5-05-after-hours-networking-06-27-2013-1358
END:VEVENT

END:VCALENDAR
