BEGIN:VCALENDAR
VERSION:2.0
PRODID:-//ChamberMaster//Event Calendar 2.0//EN
METHOD:PUBLISH
X-PUBLISHED-TTL:P3D
REFRESH-INTERVAL:P3D
CALSCALE:GREGORIAN
BEGIN:VEVENT
DTSTART:20140626T210500Z
DTEND:20140626T230000Z
X-MICROSOFT-CDO-ALLDAYEVENT:FALSE
SUMMARY:5:05 After Hours Networking
DESCRIPTION:Come out to our June 5:05 After Hours Networking at Tin Roof for a night of fun and networking!
X-ALT-DESC;FMTTYPE=text/html:Come out to our June 5:05 After Hours Networking at Tin Roof for a night of fun and networking!
LOCATION:3921 Shelbyville Rd\, Louisville\, KY 40207
UID:e.9037.1687
SEQUENCE:3
DTSTAMP:20260426T044238Z
URL:https://business.stmatthewschamber.com/events/details/5-05-after-hours-networking-06-26-2014-1687
END:VEVENT

END:VCALENDAR
