BEGIN:VCALENDAR
VERSION:2.0
PRODID:-//ChamberMaster//Event Calendar 2.0//EN
METHOD:PUBLISH
X-PUBLISHED-TTL:P3D
REFRESH-INTERVAL:P3D
CALSCALE:GREGORIAN
BEGIN:VEVENT
DTSTART:20130530T210500Z
DTEND:20130530T230000Z
X-MICROSOFT-CDO-ALLDAYEVENT:FALSE
SUMMARY:5:05 After Hours Networking
DESCRIPTION:MAY 5:05 Networking Event!\n\nPlease join us Thursday\, May 30th from 5:05 PM to 7:00 PM\n\nat the California Closets showroom for our May 5:05\n\nNetworking Event! Food and beverages will be provided\n\nby local vendors.\n\n\n\nAdditional parking is available at Pearson's Funeral Home on Breckenridge\n\nLane\, adjacent to our Showroom.
X-ALT-DESC;FMTTYPE=text/html:MAY 5:05 Networking Event!<br />\nPlease join us Thursday\, May 30th from 5:05 PM to 7:00 PM<br />\nat the California Closets showroom for our May 5:05<br />\nNetworking Event! Food and beverages will be provided<br />\nby local vendors.<br />\n<br />\nAdditional parking is available at Pearson&rsquo\;s Funeral Home on Breckenridge<br />\nLane\, adjacent to our Showroom.
LOCATION:California Closets 136 Breckenridge Lane\, St Matthews 502.895.0505
UID:e.9037.1352
SEQUENCE:3
DTSTAMP:20260421T173331Z
URL:https://business.stmatthewschamber.com/events/details/5-05-after-hours-networking-05-30-2013-1352
END:VEVENT

END:VCALENDAR
