BEGIN:VCALENDAR
VERSION:2.0
PRODID:-//ChamberMaster//Event Calendar 2.0//EN
METHOD:PUBLISH
X-PUBLISHED-TTL:P3D
REFRESH-INTERVAL:P3D
CALSCALE:GREGORIAN
BEGIN:VEVENT
DTSTART:20130425T210500Z
DTEND:20130425T230000Z
X-MICROSOFT-CDO-ALLDAYEVENT:FALSE
SUMMARY:5:05 After Hours Networking
DESCRIPTION:Come out to our April 5:05 After Hours Networking at Mellow Mushroom for a night of fun and networking!
X-ALT-DESC;FMTTYPE=text/html:<div _mce_style="font-size: 10pt\;" style="font-size: 10pt\;">\n	Come out to our April 5:05 After Hours Networking at Mellow Mushroom for a night of fun and networking!</div>\n<p _mce_style="margin-top: 0px\; margin-bottom: 0px\; color: #000000\; font-size: 9pt\; text-align: left\;" align="left" style="margin-top: 0px\; margin-bottom: 0px\; color: #000000\; font-size: 9pt\; text-align: left\;">\n	<span lang="en-US">&nbsp\;</span></p>\n
LOCATION:3920 Shelbyville Rd\, Louisville\, KY
UID:e.9037.1343
SEQUENCE:3
DTSTAMP:20260421T191236Z
URL:https://business.stmatthewschamber.com/events/details/5-05-after-hours-networking-04-25-2013-1343
END:VEVENT

END:VCALENDAR
