BEGIN:VCALENDAR
VERSION:2.0
PRODID:-//ChamberMaster//Event Calendar 2.0//EN
METHOD:PUBLISH
X-PUBLISHED-TTL:P3D
REFRESH-INTERVAL:P3D
CALSCALE:GREGORIAN
BEGIN:VEVENT
DTSTART:20130328T210500Z
DTEND:20130328T230000Z
X-MICROSOFT-CDO-ALLDAYEVENT:FALSE
SUMMARY:5:05 After Hours Networking
DESCRIPTION:
X-ALT-DESC;FMTTYPE=text/html:
LOCATION:
UID:e.9037.1338
SEQUENCE:3
DTSTAMP:20260421T205859Z
URL:https://business.stmatthewschamber.com/events/details/5-05-after-hours-networking-03-28-2013-1338
END:VEVENT

END:VCALENDAR
