BEGIN:VCALENDAR
VERSION:2.0
PRODID:-//ChamberMaster//Event Calendar 2.0//EN
METHOD:PUBLISH
X-PUBLISHED-TTL:P3D
REFRESH-INTERVAL:P3D
CALSCALE:GREGORIAN
BEGIN:VEVENT
DTSTART:20140327T210500Z
DTEND:20140327T230000Z
X-MICROSOFT-CDO-ALLDAYEVENT:FALSE
SUMMARY:5:05 After Hours Networking
DESCRIPTION:Come out to our March 5:05 After Hours Networking at DiOrio's Pizza & Pub for a night of fun and networking!
X-ALT-DESC;FMTTYPE=text/html:Come out to our March 5:05 After Hours Networking at DiOrio&#39\;s Pizza &amp\; Pub for a night of fun and networking!
LOCATION:310 Wallace Avenue Louisville\, KY 40207 50-618-3424
UID:e.9037.1651
SEQUENCE:3
DTSTAMP:20260426T010518Z
URL:https://business.stmatthewschamber.com/events/details/5-05-after-hours-networking-03-27-2014-1651
END:VEVENT

END:VCALENDAR
