BEGIN:VCALENDAR
VERSION:2.0
PRODID:-//ChamberMaster//Event Calendar 2.0//EN
METHOD:PUBLISH
X-PUBLISHED-TTL:P3D
REFRESH-INTERVAL:P3D
CALSCALE:GREGORIAN
BEGIN:VEVENT
DTSTART:20130228T220500Z
DTEND:20130301T000000Z
X-MICROSOFT-CDO-ALLDAYEVENT:FALSE
SUMMARY:5:05 After Hours Networking
DESCRIPTION:A new woman was born. She smoked\, drank\, danced\, and voted. She cut her hair\, wore make-up and went to parties! She was giddy and took risks. She was a flapper \n\n\n\n"Sounds like a lot of our business owners today!"\n\n\n\nCome join the crew at The Burdorf Center for cocktails\, drinks\, and   plenty of networking! Food and Drinks from Drake's and 60 West will be available!\n\n\n\nGuys and Dolls wear your best 20's outfit for prizes and giveaways!
X-ALT-DESC;FMTTYPE=text/html:<span style="language:en-US\;"><span style="font-family:calibri\;"><span style="font-size:11.0pt\;">A new woman was born. She smoked\, drank\, danced\, and voted. She cut her hair\, wore make-up and went to parties! She was giddy and took risks. She was a flapper&hellip\;</span></span></span><br />\n<br />\n<span style="font-style:italic\;language:en-US\;"><span style="font-family:calibri\;"><span style="font-size:14.0pt\;">&ldquo\;Sounds like a lot of our business owners today!&rdquo\;</span></span></span><br />\n<br />\n<span style="language:en-US\;"><span style="font-family:calibri\;"><span style="font-size:11.0pt\;">Come join the crew at The Burdorf Center for cocktails\, drinks\, and&nbsp\;&nbsp\; plenty of networking! Food and Drinks from Drake&rsquo\;s and 60 West will be available!</span></span></span><br />\n<br />\n<span style="language:en-US\;"><span style="font-family:calibri\;"><span style="font-size:11.0pt\;">Guys and Dolls wear your best 20&rsquo\;s outfit for prizes and giveaways!</span></span></span><br />\n&nbsp\;
LOCATION:The Burdorf Center 3939 Shelbyville Road Louisville\, KY 40207
UID:e.9037.1332
SEQUENCE:3
DTSTAMP:20260421T223646Z
URL:https://business.stmatthewschamber.com/events/details/5-05-after-hours-networking-02-28-2013-1332
END:VEVENT

END:VCALENDAR
