BEGIN:VCALENDAR
VERSION:2.0
PRODID:-//ChamberMaster//Event Calendar 2.0//EN
METHOD:PUBLISH
X-PUBLISHED-TTL:P3D
REFRESH-INTERVAL:P3D
CALSCALE:GREGORIAN
BEGIN:VEVENT
DTSTART:20140227T220500Z
DTEND:20140228T000000Z
X-MICROSOFT-CDO-ALLDAYEVENT:FALSE
SUMMARY:5:05 After Hours Networking
DESCRIPTION:Come out to our February 5:05 After Hours Networking at Mellow Mushroom for a night of fun and networking!
X-ALT-DESC;FMTTYPE=text/html:Come out to our February 5:05 After Hours Networking at <strong>Mellow Mushroom</strong> for a night of fun and networking!<br />\n<br />\n
LOCATION:3920 Shelbyville Rd Louisville\, KY 40207 (502) 409-6874
UID:e.9037.1647
SEQUENCE:3
DTSTAMP:20260425T235502Z
URL:https://business.stmatthewschamber.com/events/details/5-05-after-hours-networking-02-27-2014-1647
END:VEVENT

END:VCALENDAR
