BEGIN:VCALENDAR
VERSION:2.0
PRODID:-//ChamberMaster//Event Calendar 2.0//EN
METHOD:PUBLISH
X-PUBLISHED-TTL:P3D
REFRESH-INTERVAL:P3D
CALSCALE:GREGORIAN
BEGIN:VEVENT
DTSTART:20140130T220500Z
DTEND:20140131T000000Z
X-MICROSOFT-CDO-ALLDAYEVENT:FALSE
SUMMARY:5:05 After Hours Networking
DESCRIPTION:Come out to our January 5:05 After Hours Networking at Tumbleweed on Bardstown Rd. for a night of fun and networking!
X-ALT-DESC;FMTTYPE=text/html:Come out to our January 5:05 After Hours Networking at <strong>Tumbleweed on Bardstown Rd.</strong> for a night of fun and networking!
LOCATION:3602 Bardstown Road Louisville\, KY 40218
UID:e.9037.1697
SEQUENCE:3
DTSTAMP:20260425T225426Z
URL:https://business.stmatthewschamber.com/events/details/5-05-after-hours-networking-01-30-2014-1697
END:VEVENT

END:VCALENDAR
