BEGIN:VCALENDAR
VERSION:2.0
PRODID:-//ChamberMaster//Event Calendar 2.0//EN
METHOD:PUBLISH
X-PUBLISHED-TTL:P3D
REFRESH-INTERVAL:P3D
CALSCALE:GREGORIAN
BEGIN:VEVENT
DTSTART:20130129T220500Z
DTEND:20130130T000000Z
X-MICROSOFT-CDO-ALLDAYEVENT:FALSE
SUMMARY:5:05 After Hours Networking
DESCRIPTION:Kick off the New Year with fun at the January 5:05 After Hours Networking! Join us in celebrating 2013 with a night of fun and Networking at Zoe's Kitchen. We'll kick off the night with a ribbon cutting and then flow right into the restaurant for an evening of Mediterranean delicacies and an endless supply of networking!
X-ALT-DESC;FMTTYPE=text/html:Kick off the New Year with fun at the January 5:05 After Hours Networking! Join us in celebrating 2013 with a night of fun and Networking at Zoe&#39\;s Kitchen. We&#39\;ll kick off the night with a ribbon cutting and then flow right into the restaurant for an evening of Mediterranean delicacies and an endless supply of networking!
LOCATION:Zoe's Kitchen 3723 Lexington Road Louisville\, KY 40207
UID:e.9037.1414
SEQUENCE:3
DTSTAMP:20260422T000705Z
URL:https://business.stmatthewschamber.com/events/details/5-05-after-hours-networking-01-29-2013-1414
END:VEVENT

END:VCALENDAR
