BEGIN:VCALENDAR
VERSION:2.0
PRODID:-//ChamberMaster//Event Calendar 2.0//EN
METHOD:PUBLISH
X-PUBLISHED-TTL:P3D
REFRESH-INTERVAL:P3D
CALSCALE:GREGORIAN
BEGIN:VEVENT
DTSTART:20131019T130000Z
DTEND:20131019T130000Z
X-MICROSOFT-CDO-ALLDAYEVENT:FALSE
SUMMARY:4th Annual Strides for Stroke Walk Act F.A.S.T.
DESCRIPTION:Call 502-643-3175 or email strokewalkky@gmail.com for questions. Register at http://www.stridesforstrokekyind.org
X-ALT-DESC;FMTTYPE=text/html:Call 502-643-3175 or email strokewalkky@gmail.com for questions. Register at <a href="http://www.stridesforstrokekyind.org">http://www.stridesforstrokekyind.org</a><br />\n<br />\n<br />\n
LOCATION:Located at Brown Park (corner of Kresge Way and Browns Lane in St. Matthews)
UID:e.9037.1618
SEQUENCE:3
DTSTAMP:20260425T192649Z
URL:https://business.stmatthewschamber.com/events/details/4th-annual-strides-for-stroke-walk-act-f-a-s-t-10-19-2013-1618
END:VEVENT

END:VCALENDAR
