BEGIN:VCALENDAR
VERSION:2.0
PRODID:-//ChamberMaster//Event Calendar 2.0//EN
METHOD:PUBLISH
X-PUBLISHED-TTL:P3D
REFRESH-INTERVAL:P3D
CALSCALE:GREGORIAN
BEGIN:VEVENT
DTSTART:20111203T210000Z
DTEND:20111203T230000Z
X-MICROSOFT-CDO-ALLDAYEVENT:FALSE
SUMMARY:21st Annual Light Up St. Matthews
DESCRIPTION:21st Annual Light Up St. Matthews in Brown Park\n\n	\n\n	With over 2\,000 in attendance in 2010\, the St. Matthews Community is expecting another record breaking crowd this year's "Light up" St. Matthews. Family fun and entertainment\, sponsored by the City of St. Matthews and St. Matthews Area Business Association\, will kick off the holiday season with the 21st Annual "Light Up" St. Matthews in Brown Park.\n\n	\n\n	"Light Up" St. Matthews features letters to Santa\, pictures with Santa and Mrs. Clause\, horse-drawn carriage rides\, a petting zoo\, pony rides\, train rides\, Ronald McDonald\, strolling carollers\, cookies\, hot chocolate and cider\, and much\, much more.\n\n	\n\n	Holiday music and entertainment will be provided by N2lt. Brown Park will "light up" with tens of thousands of lights at 6:00 pm.\n\n	\n\n	Everything is free! Bring your families and friends and help us celebrate the holidays as we "Light Up" St. Matthews.\n\n	\n\n	While parking at Brown Park will be limited to handicapped parking on the day of the festival\, free parking and trolley service will be provided at the Baptist Hospital Easr Doctors Office Building\, at the corner of Kresge Way and Browns Lane\, at St. Matthews Elementary School\, and Waggener Traditional High School\, both on Browns Lane.\n\n	Sponsorships will be available September 1st\, 2011.
X-ALT-DESC;FMTTYPE=text/html:<p>\n	<strong><span style="font-size: 16px">21st Annual Light Up St. Matthews in Brown Park</span></strong><br />\n	<br />\n	With over 2\,000 in attendance in 2010\, the St. Matthews Community is expecting another record breaking crowd this year&#39\;s &quot\;Light up&quot\; St. Matthews. Family fun and entertainment\, sponsored by the City of St. Matthews and St. Matthews Area Business Association\, will kick off the holiday season with the 21st Annual &quot\;Light Up&quot\; St. Matthews in Brown Park.<br />\n	<br />\n	&quot\;Light Up&quot\; St. Matthews features letters to Santa\, pictures with Santa and Mrs. Clause\, horse-drawn carriage rides\, a petting zoo\, pony rides\, train rides\, Ronald McDonald\, strolling carollers\, cookies\, hot chocolate and cider\, and much\, much more.<br />\n	<br />\n	Holiday music and entertainment will be provided by N2lt. Brown Park will &quot\;light up&quot\; with tens of thousands of lights at 6:00 pm.<br />\n	<br />\n	<strong><span style="font-size: 14px">Everything is free!</span></strong> Bring your families and friends and help us celebrate the holidays as we &quot\;Light Up&quot\; St. Matthews.<br />\n	<br />\n	While parking at Brown Park will be limited to handicapped parking on the day of the festival\, free parking and trolley service will be provided at the Baptist Hospital Easr Doctors Office Building\, at the corner of Kresge Way and Browns Lane\, at St. Matthews Elementary School\, and Waggener Traditional High School\, both on Browns Lane.</p>\n<p>\n	<span style="font-size: 11px">Sponsorships will be available September 1st\, 2011.</span></p>\n
LOCATION:Brown Park
UID:e.9037.30
SEQUENCE:3
DTSTAMP:20260424T213524Z
URL:https://business.stmatthewschamber.com/events/details/21st-annual-light-up-st-matthews-12-03-2011-30
END:VEVENT

END:VCALENDAR
